BEGIN:VCALENDAR
PRODID:-//hacksw/handcal//NONSGML v1.0//EN
VERSION:2.0
METHOD:PUBLISH
BEGIN:VEVENT
DTSTART:20260609T154500Z
DTEND:20260609T051500Z
LOCATION:The Neighbor's Place
UID:2947020260609T154500ZLunch and Learn: LEPC Member Panel
DTSTAMP:20260423T142741Z
DESCRIPTION:
SUMMARY:Lunch and Learn: LEPC Member Panel - Lynchburg Estate Planning Council 
PRIORITY:3
BEGIN:VALARM
TRIGGER:PT18H
ACTION:DISPLAY
DESCRIPTION:Reminder
END:VALARM
END:VEVENT
END:VCALENDAR