BEGIN:VCALENDAR
PRODID:-//hacksw/handcal//NONSGML v1.0//EN
VERSION:2.0
METHOD:PUBLISH
BEGIN:VEVENT
DTSTART:20260901T213000Z
DTEND:20260901T113000Z
LOCATION:Oakwood Country Club
UID:2947120260901T213000ZFall Dinner Meeting
DTSTAMP:20260423T143926Z
DESCRIPTION:
SUMMARY:Fall Dinner Meeting - Lynchburg Estate Planning Council 
PRIORITY:3
BEGIN:VALARM
TRIGGER:PT18H
ACTION:DISPLAY
DESCRIPTION:Reminder
END:VALARM
END:VEVENT
END:VCALENDAR