BEGIN:VCALENDAR
PRODID:-//hacksw/handcal//NONSGML v1.0//EN
VERSION:2.0
METHOD:PUBLISH
BEGIN:VEVENT
DTSTART:20261201T223000Z
DTEND:20261202T003000Z
LOCATION:Oakwood Country Club
UID:2947220261201T223000ZSocial Night - Dinner at Oakwood
DTSTAMP:20260423T143539Z
DESCRIPTION:
SUMMARY:Social Night - Dinner at Oakwood - Lynchburg Estate Planning Council 
PRIORITY:3
BEGIN:VALARM
TRIGGER:PT18H
ACTION:DISPLAY
DESCRIPTION:Reminder
END:VALARM
END:VEVENT
END:VCALENDAR